BEGIN:VCALENDAR
VERSION:2.0
PRODID:-//RPUCC//AddToCalendar//EN
CALSCALE:GREGORIAN
METHOD:PUBLISH
BEGIN:VEVENT
UID:82044-dining-out-for-life
DTSTAMP:20260424T140303Z
DTSTART:20260430T220000Z
DTEND:20260430T230000Z
SUMMARY:Dining Out for Life
DESCRIPTION:ADDRESS: Tooties on Lowry\, 2706 Lowry Avenue North\, Minneapolis\, MN 55411-1014\n\nSharing a meal is a simple way to make a big difference for our neighbors. Join your church family at Tooties on 2706 Lowry Ave N. on Thursday\, April 30 from 5–6 p.m. to support the Aliveness Project. A portion of your bill will help provide essential wellness services for people of color and others most impacted by HIV/AIDS.\nWhether you join the group at Tooties or visit another participating spot for breakfast\, lunch\, or supper\, your participation fuels vital health advocacy. You can find a full list of participating restaurants online.\nIt is a beautiful opportunity to put our values into action while enjoying a great local meal.\n\nVIEW EVENT: https://www.rpucc.org/events//events/82044-dining-out-for-life
LOCATION:Tooties on Lowry\, 2706 Lowry Avenue North\, Minneapolis\, MN
URL:https://www.rpucc.org/events//events/82044-dining-out-for-life
END:VEVENT
END:VCALENDAR
